BEGIN:VCALENDAR
VERSION:2.0
PRODID:-//Plone.org//NONSGML plone.app.event//EN
X-WR-TIMEZONE:US/Central
BEGIN:VEVENT
SUMMARY:Story Time
DTSTART;TZID=US/Central:20250820T110000
DTEND;TZID=US/Central:20250820T120000
DTSTAMP:20260421T140701Z
UID:6222f5392f3c44b08066faa458e8faa7@saas_stack_varnish:6080
RRULE:FREQ=WEEKLY;UNTIL=20251217T000000;BYDAY=WE
EXDATE;TZID=US/Central:20251015T000000
CONTACT:Gail Williamson\, 936-336-8901
CREATED:20240826T144823Z
DESCRIPTION:A free program where children ages 2-5yrs and their parents he
 ar a special story and enjoy a related craft activity. Older and younger s
 iblings are welcome to join in on the fun.
LAST-MODIFIED:20251009T211018Z
LOCATION:Liberty Municipal Library
URL:https://liberty.ploud.net/story-time-2
END:VEVENT
BEGIN:VTIMEZONE
TZID:US/Central
X-LIC-LOCATION:US/Central
BEGIN:DAYLIGHT
DTSTART:20250309T030000
TZNAME:CDT
TZOFFSETFROM:-0600
TZOFFSETTO:-0500
END:DAYLIGHT
END:VTIMEZONE
END:VCALENDAR
