BEGIN:VCALENDAR
VERSION:2.0
PRODID:-//Plone.org//NONSGML plone.app.event//EN
X-WR-TIMEZONE:US/Central
BEGIN:VEVENT
SUMMARY:The Clauses Are Coming to the Library
DTSTART;TZID=US/Central:20221215T150000
DTEND;TZID=US/Central:20221215T170000
DTSTAMP:20260421T081052Z
UID:5487071f52c84803b86fa427efe475d7@saas_stack_varnish:6080
CONTACT:Gail Williamson\, 936-336-8901
CREATED:20221215T150319Z
DESCRIPTION:Pictures and Story with Santa and Mrs. Claus. Plus games\, cra
 fts\, and there is no cost to attend.
LAST-MODIFIED:20221215T150329Z
LOCATION:Geraldine D. Humphreys Cultural Center - Liberty Municipal Librar
 y
URL:https://liberty.ploud.net/news-events/the-clauses-are-coming-to-the-li
 brary
END:VEVENT
BEGIN:VTIMEZONE
TZID:US/Central
X-LIC-LOCATION:US/Central
BEGIN:STANDARD
DTSTART:20221106T010000
TZNAME:CST
TZOFFSETFROM:-0500
TZOFFSETTO:-0600
END:STANDARD
END:VTIMEZONE
END:VCALENDAR
