BEGIN:VCALENDAR
VERSION:2.0
PRODID:-//Plone.org//NONSGML plone.app.event//EN
X-WR-TIMEZONE:US/Central
BEGIN:VEVENT
SUMMARY:Liberty Municipal Library Christmas Party
DTSTART;TZID=US/Central:20251216T163000
DTEND;TZID=US/Central:20251216T173000
DTSTAMP:20260419T204127Z
UID:31be9b2e5e524d77970b9da7576c014b@saas_stack_varnish:6080
CONTACT:936-336-8901
CREATED:20251216T201358Z
DESCRIPTION:Crafts\, Goodies Bags\, Grinch dust\, story\, & pictures with 
 Santa. If you have not already voted\, this will also be your last chance 
 to vote on your Christmas tree!\n\nCity Sponsored "Let It Snow" will take 
 place on the back lawn starting right after the library's event.
LAST-MODIFIED:20251216T201443Z
LOCATION:Liberty Municipal Library
URL:https://liberty.ploud.net/news-events/liberty-municipal-library-christ
 mas-party
END:VEVENT
BEGIN:VTIMEZONE
TZID:US/Central
X-LIC-LOCATION:US/Central
BEGIN:STANDARD
DTSTART:20251102T010000
TZNAME:CST
TZOFFSETFROM:-0500
TZOFFSETTO:-0600
END:STANDARD
END:VTIMEZONE
END:VCALENDAR
