BEGIN:VCALENDAR
VERSION:2.0
PRODID:-//Plone.org//NONSGML plone.app.event//EN
X-WR-TIMEZONE:US/Central
BEGIN:VEVENT
SUMMARY:Liberty Fire Department Visits the Library for Story Time
DTSTART;TZID=US/Central:20231115T110000
DTEND;TZID=US/Central:20231115T120000
DTSTAMP:20260421T095040Z
UID:47aefa52108d4b718c11cd9c32a69b76@saas_stack_varnish:6080
CONTACT:936-336-8901
CREATED:20231102T180029Z
LAST-MODIFIED:20231103T205853Z
LOCATION:Geraldine D. Humphreys Cultural Center - Liberty Municipal Librar
 y
URL:https://liberty.ploud.net/news-events/lib-news/liberty-fire-department
 -visits-the-library-for-story-time
END:VEVENT
BEGIN:VTIMEZONE
TZID:US/Central
X-LIC-LOCATION:US/Central
BEGIN:STANDARD
DTSTART:20231105T010000
TZNAME:CST
TZOFFSETFROM:-0500
TZOFFSETTO:-0600
END:STANDARD
END:VTIMEZONE
END:VCALENDAR
