BEGIN:VCALENDAR
VERSION:2.0
PRODID:-//Plone.org//NONSGML plone.app.event//EN
X-WR-TIMEZONE:US/Central
BEGIN:VEVENT
SUMMARY:World Kindness Day
DTSTART;VALUE=DATE:20261113
DTEND;VALUE=DATE:20261114
DTSTAMP:20260421T111012Z
UID:9278166206b332562d8f50f3eeb28105@saas_stack_varnish:6080
RRULE:FREQ=YEARLY;COUNT=20;BYMONTHDAY=13;BYMONTH=11
CREATED:20140522T212746Z
DESCRIPTION:Be KIND!
LAST-MODIFIED:20200304T162601Z
URL:https://liberty.ploud.net/news-events/lib-cal/world-kindness-day.ics
END:VEVENT
END:VCALENDAR
