BEGIN:VCALENDAR
VERSION:2.0
PRODID:-//Plone.org//NONSGML plone.app.event//EN
X-WR-TIMEZONE:US/Central
BEGIN:VEVENT
SUMMARY:UNITED WE STAND\, September 11
DTSTART;VALUE=DATE:20260911
DTEND;VALUE=DATE:20260912
DTSTAMP:20260421T112342Z
UID:df51e642767e92e5e32049bab631f0ed@saas_stack_varnish:6080
RRULE:FREQ=YEARLY;COUNT=20;BYMONTHDAY=11;BYMONTH=9
EXDATE;TZID=US/Central:20160911T000000,20170911T000000,20180911T000000
CREATED:20120215T182354Z
DESCRIPTION:WE WILL NEVER FORGET!
LAST-MODIFIED:20200304T145750Z
URL:https://liberty.ploud.net/news-events/lib-cal/united-we-stand-septembe
 r-11.ics
END:VEVENT
END:VCALENDAR
