BEGIN:VCALENDAR
VERSION:2.0
PRODID:-//Plone.org//NONSGML plone.app.event//EN
X-WR-TIMEZONE:US/Central
BEGIN:VEVENT
SUMMARY:Star Wars Day
DTSTART;VALUE=DATE:20230504
DTEND;VALUE=DATE:20230505
DTSTAMP:20260421T002003Z
UID:eea2d49ef1c38b708e71145a3253cf23@saas_stack_varnish:6080
CREATED:20140619T174028Z
DESCRIPTION:"Strong at the Library\, the Force is."
LAST-MODIFIED:20200304T152021Z
URL:https://liberty.ploud.net/news-events/lib-cal/star-wars-day-1.ics/2023
 -05-04
END:VEVENT
END:VCALENDAR
