BEGIN:VCALENDAR
VERSION:2.0
PRODID:-//Plone.org//NONSGML plone.app.event//EN
X-WR-TIMEZONE:US/Central
BEGIN:VEVENT
SUMMARY:National Novel Writing Month
DTSTART;VALUE=DATE:20161101
DTEND;VALUE=DATE:20161202
DTSTAMP:20260420T223922Z
UID:7313de211c16eb7209fcd81d95ae17f1@saas_stack_varnish:6080
CREATED:20140519T164030Z
DESCRIPTION:Write a Book!
LAST-MODIFIED:20200611T215505Z
URL:https://liberty.ploud.net/news-events/lib-cal/national-novel-writing-m
 onth-4.ics/2016-11-01
END:VEVENT
END:VCALENDAR
