BEGIN:VCALENDAR
VERSION:2.0
PRODID:-//Plone.org//NONSGML plone.app.event//EN
X-WR-TIMEZONE:US/Central
BEGIN:VEVENT
SUMMARY:National Custodial Worker's Day
DTSTART;VALUE=DATE:20161002
DTEND;VALUE=DATE:20161003
DTSTAMP:20260420T214215Z
UID:7ae8bffbbb0adc997b6d6720a49c3d1c@saas_stack_varnish:6080
CREATED:20140508T154113Z
DESCRIPTION:Thanks to all the men and women who are at work behind the sce
 nes and making sure that everything is sparkly clean.
LAST-MODIFIED:20200304T161906Z
URL:https://liberty.ploud.net/news-events/lib-cal/national-custodial-worke
 rs-day.ics/2016-10-02
END:VEVENT
END:VCALENDAR
