BEGIN:VCALENDAR
VERSION:2.0
PRODID:-//Plone.org//NONSGML plone.app.event//EN
X-WR-TIMEZONE:US/Central
BEGIN:VEVENT
SUMMARY:National Book Month
DTSTART;VALUE=DATE:20161001
DTEND;VALUE=DATE:20161101
DTSTAMP:20260420T214341Z
UID:ee6315e63b12e63dd700f8c442f432d7@saas_stack_varnish:6080
CREATED:20150114T214400Z
DESCRIPTION:"Fall into a good book."
LAST-MODIFIED:20200304T161752Z
URL:https://liberty.ploud.net/news-events/lib-cal/national-book-month-6.ic
 s/2016-10-01
END:VEVENT
END:VCALENDAR
