BEGIN:VCALENDAR
VERSION:2.0
PRODID:-//Plone.org//NONSGML plone.app.event//EN
X-WR-TIMEZONE:US/Central
BEGIN:VEVENT
SUMMARY:National Author's Day
DTSTART;VALUE=DATE:20161101
DTEND;VALUE=DATE:20161102
DTSTAMP:20260420T223603Z
UID:ab036b846c7e1fb1a5ace7004a1f1a37@saas_stack_varnish:6080
CREATED:20140701T223453Z
DESCRIPTION:Celebrating American literature and the people who wrote them.
LAST-MODIFIED:20200304T162141Z
URL:https://liberty.ploud.net/news-events/lib-cal/national-authors-day.ics
 /2016-11-01
END:VEVENT
END:VCALENDAR
