BEGIN:VCALENDAR
VERSION:2.0
PRODID:-//Plone.org//NONSGML plone.app.event//EN
X-WR-TIMEZONE:US/Central
BEGIN:VEVENT
SUMMARY:Leif Erikson Day
DTSTART;VALUE=DATE:20221009
DTEND;VALUE=DATE:20221010
DTSTAMP:20260423T214325Z
UID:9257c1911a3b2fd5a399bc024c06a26a@saas_stack_varnish:6080
CREATED:20140319T220431Z
DESCRIPTION:Columbus was not the first....
LAST-MODIFIED:20200304T161933Z
URL:https://liberty.ploud.net/news-events/lib-cal/leif-erikson-day.ics/202
 2-10-09
END:VEVENT
END:VCALENDAR
