BEGIN:VCALENDAR
VERSION:2.0
PRODID:-//Plone.org//NONSGML plone.app.event//EN
X-WR-TIMEZONE:US/Central
BEGIN:VEVENT
SUMMARY:Labor Day
DTSTART;VALUE=DATE:20260907
DTEND;VALUE=DATE:20260908
DTSTAMP:20260420T170504Z
UID:65b01d1eb7ed20c94e4078b9eb83547a@saas_stack_varnish:6080
RRULE:FREQ=YEARLY;COUNT=20;BYDAY=+1MO;BYMONTH=9
EXDATE;TZID=US/Central:20160905T000000,20170904T000000,20180903T000000
CREATED:20120211T210405Z
DESCRIPTION:Celebrate the American worker. Honoring the past\, while looki
 ng towards the future.
LAST-MODIFIED:20200304T144721Z
URL:https://liberty.ploud.net/news-events/lib-cal/labor-day.ics
END:VEVENT
END:VCALENDAR
