BEGIN:VCALENDAR
VERSION:2.0
PRODID:-//Plone.org//NONSGML plone.app.event//EN
X-WR-TIMEZONE:US/Central
BEGIN:VEVENT
SUMMARY:Labor Day
DTSTART;VALUE=DATE:20310901
DTEND;VALUE=DATE:20310902
DTSTAMP:20260420T124821Z
UID:65b01d1eb7ed20c94e4078b9eb83547a@saas_stack_varnish:6080
CREATED:20120211T210405Z
DESCRIPTION:Celebrate the American worker. Honoring the past\, while looki
 ng towards the future.
LAST-MODIFIED:20200304T144721Z
URL:https://liberty.ploud.net/news-events/lib-cal/labor-day.ics/2031-09-01
END:VEVENT
END:VCALENDAR
