BEGIN:VCALENDAR
VERSION:2.0
PRODID:-//Plone.org//NONSGML plone.app.event//EN
X-WR-TIMEZONE:US/Central
BEGIN:VEVENT
SUMMARY:International Children's Day
DTSTART;TZID=US/Central:20170611T000000
DTEND;TZID=US/Central:20170611T235500
DTSTAMP:20260421T003012Z
UID:e31ac9aa06a432c74ef63af6d5e7c310@saas_stack_varnish:6080
CREATED:20140702T160833Z
DESCRIPTION:A day dedicated to the wellness and happiness of children.
LAST-MODIFIED:20200612T135730Z
URL:https://liberty.ploud.net/news-events/lib-cal/international-childrens-
 day.ics/2017-06-11
END:VEVENT
BEGIN:VTIMEZONE
TZID:US/Central
X-LIC-LOCATION:US/Central
BEGIN:DAYLIGHT
DTSTART:20170312T030000
TZNAME:CDT
TZOFFSETFROM:-0600
TZOFFSETTO:-0500
END:DAYLIGHT
END:VTIMEZONE
END:VCALENDAR
