BEGIN:VCALENDAR
VERSION:2.0
PRODID:-//Plone.org//NONSGML plone.app.event//EN
X-WR-TIMEZONE:US/Central
BEGIN:VEVENT
SUMMARY:First Day of Spring
DTSTART;VALUE=DATE:20300320
DTEND;VALUE=DATE:20300321
DTSTAMP:20260422T224844Z
UID:d6e7d3633dd67749e18909a21ea09fb5@saas_stack_varnish:6080
CREATED:20120215T182640Z
DESCRIPTION:The Beginning of Nature's Renewal!
LAST-MODIFIED:20200304T145816Z
URL:https://liberty.ploud.net/news-events/lib-cal/first-day-of-spring.ics/
 2030-03-20
END:VEVENT
END:VCALENDAR
