BEGIN:VCALENDAR
VERSION:2.0
PRODID:-//Plone.org//NONSGML plone.app.event//EN
X-WR-TIMEZONE:US/Central
BEGIN:VEVENT
SUMMARY:The Great Pumpkin Bash Party!
DTSTART;TZID=US/Central:20161027T160000
DTEND;TZID=US/Central:20161027T173000
DTSTAMP:20260426T023540Z
UID:5b4d3a321078fbd9b6cd37cdac6a02b7@saas_stack_varnish:6080
CONTACT:936-336-8901
CREATED:20130926T200931Z
DESCRIPTION:In honor of all participants of the Great Pumpkin Bash - A Pum
 pkin Decorating Extravaganza.
LAST-MODIFIED:20161019T190734Z
LOCATION:Liberty Library
URL:https://liberty.ploud.net/news-events/lib-cal/expired-calendar-events/
 the-great-pumpkin-bash-party.ics
END:VEVENT
BEGIN:VTIMEZONE
TZID:US/Central
X-LIC-LOCATION:US/Central
BEGIN:DAYLIGHT
DTSTART:20160313T030000
TZNAME:CDT
TZOFFSETFROM:-0600
TZOFFSETTO:-0500
END:DAYLIGHT
END:VTIMEZONE
END:VCALENDAR
