BEGIN:VCALENDAR
VERSION:2.0
PRODID:-//Plone.org//NONSGML plone.app.event//EN
X-WR-TIMEZONE:US/Central
BEGIN:VEVENT
SUMMARY:Dictionary Day
DTSTART;VALUE=DATE:20161016
DTEND;VALUE=DATE:20161017
DTSTAMP:20260420T213927Z
UID:bc273087eabb1da23504faf9ca9353c3@saas_stack_varnish:6080
CREATED:20140508T153839Z
DESCRIPTION:Words have meaning. Look them up.
LAST-MODIFIED:20200304T162012Z
URL:https://liberty.ploud.net/news-events/lib-cal/dictionary-day.ics/2016-
 10-16
END:VEVENT
END:VCALENDAR
