BEGIN:VCALENDAR
VERSION:2.0
PRODID:-//Plone.org//NONSGML plone.app.event//EN
X-WR-TIMEZONE:US/Central
BEGIN:VEVENT
SUMMARY:Cookie Month
DTSTART;VALUE=DATE:20241001
DTEND;VALUE=DATE:20241101
DTSTAMP:20260419T232512Z
UID:d7c4b08b71fc8d8000e068591d95acce@saas_stack_varnish:6080
CREATED:20150114T205526Z
DESCRIPTION:I Want a Cookie...
LAST-MODIFIED:20200304T161726Z
URL:https://liberty.ploud.net/news-events/lib-cal/cookie-month-8.ics/2024-
 10-01
END:VEVENT
END:VCALENDAR
