BEGIN:VCALENDAR
VERSION:2.0
PRODID:-//Plone.org//NONSGML plone.app.event//EN
X-WR-TIMEZONE:US/Central
BEGIN:VEVENT
SUMMARY:Chinese New Year - Year of the Ox
DTSTART;VALUE=DATE:20210212
DTEND;VALUE=DATE:20210213
DTSTAMP:20260423T212501Z
UID:9b339de0393343828e8463720d094ad9@saas_stack_varnish:6080
CREATED:20200612T155113Z
DESCRIPTION:Oxes are known for diligence\, dependability\, strength and de
 termination. Having an honest nature\, Oxes are strongly patriotic\, have 
 ideals and ambitions for life\, and attach importance to family and work.
LAST-MODIFIED:20200612T155625Z
URL:https://liberty.ploud.net/news-events/lib-cal/chinese-new-year-year-of
 -the-ox
END:VEVENT
END:VCALENDAR
