BEGIN:VCALENDAR
VERSION:2.0
PRODID:-//Plone.org//NONSGML plone.app.event//EN
X-WR-TIMEZONE:US/Central
BEGIN:VEVENT
SUMMARY:Chicken Soup for the Soul Day
DTSTART;VALUE=DATE:20221112
DTEND;VALUE=DATE:20221113
DTSTAMP:20260421T050221Z
UID:4d2429fd1750a0a40c533b2212d730de@saas_stack_varnish:6080
CREATED:20140522T212522Z
DESCRIPTION:Good for the SOUL...
LAST-MODIFIED:20200304T162526Z
URL:https://liberty.ploud.net/news-events/lib-cal/chicken-soup-for-the-sou
 l-day.ics/2022-11-12
END:VEVENT
END:VCALENDAR
