BEGIN:VCALENDAR
VERSION:2.0
PRODID:-//Plone.org//NONSGML plone.app.event//EN
X-WR-TIMEZONE:US/Central
BEGIN:VEVENT
SUMMARY:Charles Dickens' Birthday
DTSTART;VALUE=DATE:20270207
DTEND;VALUE=DATE:20270208
DTSTAMP:20260420T224002Z
UID:abb1b315d2d24a7f8b24fa46de0913cd@saas_stack_varnish:6080
CREATED:20140617T172528Z
DESCRIPTION:Happy Birthday\, Charles Dickens! Author of timeless classics 
 such as: "A Christmas Carol"\, "A Tale of Two Cities"\, "Oliver Twist"\, "
 David Copperfield"\, "Great Expectations"\, etc... (Feb .7\, 1812- Jun. 9\
 , 1870)
LAST-MODIFIED:20200304T151538Z
URL:https://liberty.ploud.net/news-events/lib-cal/charles-dickens-birthday
 -1.ics/2027-02-07
END:VEVENT
END:VCALENDAR
