BEGIN:VCALENDAR
VERSION:2.0
PRODID:-//Plone.org//NONSGML plone.app.event//EN
X-WR-TIMEZONE:US/Central
BEGIN:VEVENT
SUMMARY:Breast Cancer Awareness Month
DTSTART;VALUE=DATE:20241001
DTEND;VALUE=DATE:20241101
DTSTAMP:20260419T233921Z
UID:ffd219eeec86ef94ae998e136ef4c5d0@saas_stack_varnish:6080
CREATED:20150114T215345Z
DESCRIPTION:"Supporting the Fighters\, Admiring the Survivors\, Honoring t
 he Taken\, and Never\, Ever Giving Up Hope!"
LAST-MODIFIED:20200304T161819Z
URL:https://liberty.ploud.net/news-events/lib-cal/breast-cancer-awareness-
 month-5.ics/2024-10-01
END:VEVENT
END:VCALENDAR
