BEGIN:VCALENDAR
VERSION:2.0
PRODID:-//Plone.org//NONSGML plone.app.event//EN
X-WR-TIMEZONE:US/Central
BEGIN:VEVENT
SUMMARY:Book Lover's Day
DTSTART;VALUE=DATE:20161105
DTEND;VALUE=DATE:20161106
DTSTAMP:20260420T223433Z
UID:3fad74f51aec80abfdb9c9bf3c75fd30@saas_stack_varnish:6080
CREATED:20140508T154356Z
DESCRIPTION:Curl up with a good book.
LAST-MODIFIED:20200304T162439Z
URL:https://liberty.ploud.net/news-events/lib-cal/book-lovers-day.ics/2016
 -11-05
END:VEVENT
END:VCALENDAR
