BEGIN:VCALENDAR
VERSION:2.0
PRODID:-//Plone.org//NONSGML plone.app.event//EN
X-WR-TIMEZONE:US/Central
BEGIN:VEVENT
SUMMARY:Big Time Bubbles
DTSTART;TZID=US/Central:20230720T100000
DTEND;TZID=US/Central:20230720T110000
DTSTAMP:20260421T093146Z
UID:179751b9fee647e0952d6f9c8e3a9c7d@saas_stack_varnish:6080
CONTACT:Gail Williamson\, 936-336-8901
CREATED:20220412T160559Z
DESCRIPTION:IT IS BACK!!!!\nFOAM PARTY ZONE
LAST-MODIFIED:20230209T160306Z
URL:https://liberty.ploud.net/news-events/big-time-bubbles
END:VEVENT
BEGIN:VTIMEZONE
TZID:US/Central
X-LIC-LOCATION:US/Central
BEGIN:DAYLIGHT
DTSTART:20230312T030000
TZNAME:CDT
TZOFFSETFROM:-0600
TZOFFSETTO:-0500
END:DAYLIGHT
END:VTIMEZONE
END:VCALENDAR
