BEGIN:VCALENDAR
VERSION:2.0
PRODID:-//Plone.org//NONSGML plone.app.event//EN
X-WR-TIMEZONE:US/Central
BEGIN:VEVENT
SUMMARY:Area Agency on Aging
DTSTART;TZID=US/Central:20221025T100000
DTEND;TZID=US/Central:20221025T150000
DTSTAMP:20260419T144158Z
UID:a1272d4510334ae490a2e2c1f5152a4b@saas_stack_varnish:6080
CONTACT:Gail Williamson\, 936-336-8901
CREATED:20221013T193505Z
DESCRIPTION:A representative from the Area Agency on the Aging will be in 
 Liberty at the Liberty Municipal Library on October 25\, 2022\, from 10:00
 am to 12:00pm and 1:00pm to 3:00pm. She will be here to provide an overvie
 w of the different services that this agency can provide for our community
 .
LAST-MODIFIED:20221013T195001Z
LOCATION:Geraldine D. Humphreys Cultural Center - Liberty Municipal Librar
 y
URL:https://liberty.ploud.net/news-events/area-agency-on-aging
END:VEVENT
BEGIN:VTIMEZONE
TZID:US/Central
X-LIC-LOCATION:US/Central
BEGIN:DAYLIGHT
DTSTART:20220313T030000
TZNAME:CDT
TZOFFSETFROM:-0600
TZOFFSETTO:-0500
END:DAYLIGHT
END:VTIMEZONE
END:VCALENDAR
