BEGIN:VCALENDAR
VERSION:2.0
PRODID:-//Plone.org//NONSGML plone.app.event//EN
X-WR-TIMEZONE:US/Central
BEGIN:VEVENT
SUMMARY:Area Agency on Aging
DTSTART;TZID=US/Central:20230105T130000
DTEND;TZID=US/Central:20230105T150000
DTSTAMP:20260419T125559Z
UID:68477af8fc5149b58beb29c9af2d6e9b@saas_stack_varnish:6080
CONTACT:936-336-8901
CREATED:20230103T205421Z
DESCRIPTION:A representative will be here to provide an overview of the di
 fferent services that this agency can provide for our community.
LAST-MODIFIED:20230103T205619Z
LOCATION:Liberty Municipal Library
URL:https://liberty.ploud.net/news-events/area-agency-on-aging-1
END:VEVENT
BEGIN:VTIMEZONE
TZID:US/Central
X-LIC-LOCATION:US/Central
BEGIN:STANDARD
DTSTART:20221106T010000
TZNAME:CST
TZOFFSETFROM:-0500
TZOFFSETTO:-0600
END:STANDARD
END:VTIMEZONE
END:VCALENDAR
