BEGIN:VCALENDAR
VERSION:2.0
PRODID:-//Plone.org//NONSGML plone.app.event//EN
X-WR-TIMEZONE:US/Central
BEGIN:VEVENT
SUMMARY:Medicare
DTSTART;TZID=US/Central:20250306T100000
DTEND;TZID=US/Central:20250306T110000
DTSTAMP:20260420T140556Z
UID:7b06b5b4366c455aa0802d24d80818f6@saas_stack_varnish:6080
CREATED:20230123T192256Z
DESCRIPTION:Zelda Earvin\, AAA Benefits Counselor will be at the Liberty L
 ibrary every 1st Thursday to provide FREE\, UNBIASED Medicare information.
  ***Medicare Advantage Open Enrollment is now open. (Jan. - March 31) Time
 : 10:00-12:00 & 1:00-3:00
LAST-MODIFIED:20241216T201421Z
LOCATION:Liberty Municipal Library
URL:https://liberty.ploud.net/medicare/2025-03-06
END:VEVENT
BEGIN:VTIMEZONE
TZID:US/Central
X-LIC-LOCATION:US/Central
BEGIN:STANDARD
DTSTART:20241103T010000
TZNAME:CST
TZOFFSETFROM:-0500
TZOFFSETTO:-0600
END:STANDARD
END:VTIMEZONE
END:VCALENDAR
