BEGIN:VCALENDAR
VERSION:2.0
PRODID:-//Plone.org//NONSGML plone.app.event//EN
X-WR-TIMEZONE:US/Central
BEGIN:VEVENT
SUMMARY:Let It Snow
DTSTART;TZID=US/Central:20251216T173000
DTEND;TZID=US/Central:20251216T193000
DTSTAMP:20260420T080057Z
UID:69fb8b9a22e1445fbf6f5097475496c7@saas_stack_varnish:6080
CREATED:20251216T202517Z
DESCRIPTION:The City of Liberty presents the last night of Lights in Liber
 ty with "Let It Snow" event at the library.
LAST-MODIFIED:20251216T202551Z
URL:https://liberty.ploud.net/let-it-snow
END:VEVENT
BEGIN:VTIMEZONE
TZID:US/Central
X-LIC-LOCATION:US/Central
BEGIN:STANDARD
DTSTART:20251102T010000
TZNAME:CST
TZOFFSETFROM:-0500
TZOFFSETTO:-0600
END:STANDARD
END:VTIMEZONE
END:VCALENDAR
